BEGIN:VCALENDAR
VERSION:2.0
PRODID:-//Franklin County Libertarians - ECPv6.10.2//NONSGML v1.0//EN
CALSCALE:GREGORIAN
METHOD:PUBLISH
X-WR-CALNAME:Franklin County Libertarians
X-ORIGINAL-URL:https://www.fclpo.org
X-WR-CALDESC:Events for Franklin County Libertarians
REFRESH-INTERVAL;VALUE=DURATION:PT1H
X-Robots-Tag:noindex
X-PUBLISHED-TTL:PT1H
BEGIN:VTIMEZONE
TZID:America/New_York
BEGIN:DAYLIGHT
TZOFFSETFROM:-0500
TZOFFSETTO:-0400
TZNAME:EDT
DTSTART:20240310T070000
END:DAYLIGHT
BEGIN:STANDARD
TZOFFSETFROM:-0400
TZOFFSETTO:-0500
TZNAME:EST
DTSTART:20241103T060000
END:STANDARD
BEGIN:DAYLIGHT
TZOFFSETFROM:-0500
TZOFFSETTO:-0400
TZNAME:EDT
DTSTART:20250309T070000
END:DAYLIGHT
BEGIN:STANDARD
TZOFFSETFROM:-0400
TZOFFSETTO:-0500
TZNAME:EST
DTSTART:20251102T060000
END:STANDARD
BEGIN:DAYLIGHT
TZOFFSETFROM:-0500
TZOFFSETTO:-0400
TZNAME:EDT
DTSTART:20260308T070000
END:DAYLIGHT
BEGIN:STANDARD
TZOFFSETFROM:-0400
TZOFFSETTO:-0500
TZNAME:EST
DTSTART:20261101T060000
END:STANDARD
END:VTIMEZONE
BEGIN:VEVENT
DTSTART;TZID=America/New_York:20260326T180000
DTEND;TZID=America/New_York:20260326T190000
DTSTAMP:20260425T095731
CREATED:20260310T201523Z
LAST-MODIFIED:20260310T201621Z
UID:3131-1774548000-1774551600@www.fclpo.org
SUMMARY:Meet the Candidate Jennifer Crayton
DESCRIPTION:Meet the Candidate\nJennifer Crayton\nLibertarian Candidate for Ohio House District 6\nMarch 26th at 6pm\nColumbus Metropolitan Library\nHilltop Branch (Room 3)\n511 S. Hague Ave.\nColumbus Ohio 43204
URL:https://www.fclpo.org/event/meet-the-candidate-jennifer-crayton/
LOCATION:Columbus Metropolitan Library Hilltop Branc\, 511 S. Hague Ave\, Columbus\, OH\, 43204\, United States
CATEGORIES:Meet the Candidate
END:VEVENT
BEGIN:VEVENT
DTSTART;TZID=America/New_York:20260317T180000
DTEND;TZID=America/New_York:20260317T190000
DTSTAMP:20260425T095731
CREATED:20260221T164454Z
LAST-MODIFIED:20260221T165540Z
UID:3126-1773770400-1773774000@www.fclpo.org
SUMMARY:Franklin County Candidate Forum
DESCRIPTION:The Franklin County Libertarian Party of Ohio (FCLPO) will host the Franklin County Candidate Forum on Tuesday\, March 17\, from 6:00 pm to 7:00 pm at the Columbus Metropolitan Library\, New Albany Branch\, Meeting Room 1\, 200 Market St\, New Albany\, OH 43054. \nThe forum invites all candidates and elected officials\, regardless of political affiliation\, to engage in an open discussion of opportunities\, challenges\, and policies affecting Franklin County residents. \nFCLPO aims to provide an inclusive space where current officeholders and those seeking office can share their perspectives and proposed solutions to pressing local concerns. Attendees will hear directly from candidates about their priorities and plans for Franklin County. \nThe Franklin County Candidate Forum is open to the public. All Franklin County residents are invited to attend. \nFor updates\, visit FCLPO.org and follow FCLPO on social media.
URL:https://www.fclpo.org/event/fclpo-candidate-forum/
LOCATION:New Albany Library\, 200 Market St\, New Albany\, OH\, 43054\, United States
CATEGORIES:Meet the Candidate
END:VEVENT
BEGIN:VEVENT
DTSTART;TZID=America/New_York:20241017T180000
DTEND;TZID=America/New_York:20241017T200000
DTSTAMP:20260425T095731
CREATED:20240912T174125Z
LAST-MODIFIED:20240916T223601Z
UID:2354-1729188000-1729195200@www.fclpo.org
SUMMARY:Franklin County Candidate Forum
DESCRIPTION:Meet Franklin County Candidates for a candid discussion on opportunities\, challenges and polices impacting all Franklin County residents. \nAll Franklin County candidates and elected are invited and welcome. \nCandidates confirmed to attend: \nDrake Lundstrom – Candidate for Franklin County Treasurer \nJohn Rutan – Candidate for Franklin County Prosecutor \nBrandy Seymour – Candidate for Ohio House District 9 \nEric Terford – Candidate for Ohio House District 2 \nFranklin County Candidate Forum\nThursday\, October 17th\, 6pm-8pm \nColumbus Metropolitan Library: Driving Park Branch\n1422 E Livingston Ave\,\nColumbus\, OH 43205 \nThe Franklin County Libertarian Party of Ohio (FCLPO) will host the “Franklin County Candidate Forum” on Thursday\, October 17th\, from 6pm to 8pm at the Columbus Metropolitan Library: Driving Park Branch\, Meeting Room 3\, located at 1422 E Livingston Ave\, Columbus\, OH 43205. The forum invites all candidates and elected officials to engage in an open discussion on opportunities\, challenges\, and policies affecting Franklin County residents. \nThe forum will provide a platform for open dialogue\, fostering a deeper understanding of the issues that affect the community. All candidates\, regardless of political affiliation\, are encouraged to participate. FCLPO aims to create an inclusive space where elected officials and those seeking office can share their perspectives and proposed solutions to the most pressing concerns. \nAttendees will have the opportunity to hear directly from candidates about their plans and initiatives on key local issues such as education\, public safety\, economic development\, and social services. The forum will also address how current policies are shaping the future of Franklin County and what can be done to improve the lives of residents. \nBy hosting this forum\, FCLPO hopes to encourage transparency and active participation in the political process\, while giving voters the chance to make informed decisions in the upcoming election. The event will also provide a unique opportunity for elected officials and candidates to connect with constituents\, listen to their concerns\, and discuss potential paths forward. \nThe Franklin County Candidate Forum is open to the public\, and all Franklin County residents are invited to attend. \nColumbus Metropolitan Library: Driving Park Branch1422 E Livingston Ave\,Columbus\, OH 43205
URL:https://www.fclpo.org/event/franklin-county-candidate-forum/
LOCATION:Columbus Metropolitan Library: Driving Park Branch\, 1422 E Livingston Ave\, Columbus\, OH\, 43205\, United States
CATEGORIES:Meet the Candidate
END:VEVENT
BEGIN:VEVENT
DTSTART;TZID=America/New_York:20241003T180000
DTEND;TZID=America/New_York:20241003T190000
DTSTAMP:20260425T095731
CREATED:20240905T174908Z
LAST-MODIFIED:20240905T174908Z
UID:2348-1727978400-1727982000@www.fclpo.org
SUMMARY:Meet the Candidate - Eric Terford
DESCRIPTION:Meet the Candidate – Eric Terford \nThu Oct 3rd \n91 Flavors Bistro \n5186 East Main Street Whitehall\, 43213 \nElect Eric Terford Ohio House 2
URL:https://www.fclpo.org/event/meet-the-candidate-eric-terford-2/
LOCATION:91 Flavors Bistro\, 5186 East Main Street\, Whitehall\, 43213\, United States
CATEGORIES:Meet the Candidate
END:VEVENT
BEGIN:VEVENT
DTSTART;TZID=America/New_York:20240824T180000
DTEND;TZID=America/New_York:20240824T220000
DTSTAMP:20260425T095731
CREATED:20240815T071503Z
LAST-MODIFIED:20240815T072135Z
UID:2315-1724522400-1724536800@www.fclpo.org
SUMMARY:Dinner with Chase
DESCRIPTION:Join Libertarian candidate for President Chase Oliver and Franklin County Libertarians for dinner\, comedy and live music. \nSaturday\, 24th\, 6-10PM at the Antrim Park Shelterhouse! \nLimited Seating! RSVP Today! \nDonation Tiers and Donor Gifts. \n$50 – Friend of the County Party \n$100 – Philosopher – LPO Banner Mug \n$250 – Activist – LPO Logo Embroidered Polo Shirt \n$500 – Ambassador – “Eagle Laurels” Drawstring bag \n$1000 – Strategic Partner – All of the above gifts. \n$2500 – Influential Donor 😉 – All of the above gifts. \n$50 minimum donation to attend.  We will need phone number to confirm attendance. Event details will be sent with confirmation. \nClick DONATE below to RSVP for Dinner with Chase \n \n \n  \nDonation Tiers and Donor Gifts. \n$50 – Friend of the County Party \n$100 – Philosopher – LPO Banner Mug \n\n$250 – Activist – LPO Logo Embroidered Polo Shirt \n\n$500 – Ambassador – “Eagle Laurels” Drawstring bag \n\n$1000 – Strategic Partner – All of the above gifts. \n$2500 – Influential Donor 😉 – All of the above gifts. \nRSVP for Dinner with Chase
URL:https://www.fclpo.org/event/dinner-with-chase/
LOCATION:Antrim Park Shelterhouse
CATEGORIES:Meet the Candidate
END:VEVENT
BEGIN:VEVENT
DTSTART;TZID=America/New_York:20240808T200000
DTEND;TZID=America/New_York:20240808T200000
DTSTAMP:20260425T095731
CREATED:20240801T014636Z
LAST-MODIFIED:20240801T014636Z
UID:2260-1723147200-1723147200@www.fclpo.org
SUMMARY:FCLPO Candidate Endorsement Meeting
DESCRIPTION:Special Meeting Announcement\nThe Executive Committee of the Franklin County Libertarian Party of Ohio will be hosting a special meeting to discuss and endorse Libertarian candidates for the 2024 General Election. \nThe following candidates have been certified by the Franklin County Board of Elections to appear on the ballot in November: \nBrandy Seymour – State Representative for District 9  \nEric Terford – State Representative for District 2  \nDrake Lundstrom – County Treasurer \nCandidate endorsements from a county political party hold significant importance in elections. These endorsements serve as a signal to voters about the candidate’s alignment with party values and policies. Trust in the party often translates to trust in the endorsed candidate\, providing credibility and legitimacy. Endorsements can also lead to increased campaign support\, including financial contributions\, volunteer efforts\, and access to party resources. Media attention and public visibility tend to rise with such endorsements\, amplifying the candidate’s message. Additionally\, endorsements mobilize the party’s base\, ensuring a more robust voter turnout in favor of the endorsed candidate. \nThursday\, Aug 8th\, 8pm \nBack room at The Pub Out Back\n679 High Street\nWorthington \nGet Directions
URL:https://www.fclpo.org/event/fclpo-candidate-endorsement-meeting/
LOCATION:The Pub Out Back\, 679 High Street\, Worthington\, 43085\, United States
CATEGORIES:Meet the Candidate
END:VEVENT
BEGIN:VEVENT
DTSTART;TZID=America/New_York:20240803T130000
DTEND;TZID=America/New_York:20240803T140000
DTSTAMP:20260425T095731
CREATED:20240722T214500Z
LAST-MODIFIED:20240722T214507Z
UID:2195-1722690000-1722693600@www.fclpo.org
SUMMARY:Meet the Candidate - Brandy Seymour
DESCRIPTION:Join Brandy Seymour to discuss your concerns and the opportunities within Ohio’s 9th House District. \nWhere: Karl Road Library Conference Room 3 4445 E Broad St\, Columbus\, OH 43213 When: Sat Aug 3rd @ 1pm
URL:https://www.fclpo.org/event/meet-brandy-seymour/
LOCATION:Karl Road Library\, 5590 Karl Rd\, Columbus\, 43229\, 43229\, United States
CATEGORIES:Meet the Candidate
END:VEVENT
BEGIN:VEVENT
DTSTART;TZID=America/New_York:20240722T190000
DTEND;TZID=America/New_York:20240722T203000
DTSTAMP:20260425T095731
CREATED:20240722T213550Z
LAST-MODIFIED:20240724T203612Z
UID:2191-1721674800-1721680200@www.fclpo.org
SUMMARY:Meet the Candidate - Eric Terford
DESCRIPTION:Join Eric Terford to discuss your concerns and the opportunities within Ohio’s 2nd House District. \nWhere: Whitehall Library Meeting Room 3 4445 E Broad St\, Columbus\, OH 43213 When: Wed\, July 24th @ 7pm
URL:https://www.fclpo.org/event/meet-the-candidate-eric-terford/
LOCATION:Whitehall Library\, 4445 E Broad St\, Columbus\, 43213\, United States
CATEGORIES:Meet the Candidate
END:VEVENT
END:VCALENDAR